BEGIN:VCALENDAR
VERSION:2.0
PRODID:-//ES Manhattan WWI Centennial Celebration - ECPv6.13.2.1//NONSGML v1.0//EN
CALSCALE:GREGORIAN
METHOD:PUBLISH
X-WR-CALNAME:ES Manhattan WWI Centennial Celebration
X-ORIGINAL-URL:http://eastsidewwicentennial.org
X-WR-CALDESC:Events for ES Manhattan WWI Centennial Celebration
REFRESH-INTERVAL;VALUE=DURATION:PT1H
X-Robots-Tag:noindex
X-PUBLISHED-TTL:PT1H
BEGIN:VTIMEZONE
TZID:UTC
BEGIN:STANDARD
TZOFFSETFROM:+0000
TZOFFSETTO:+0000
TZNAME:UTC
DTSTART:20180101T000000
END:STANDARD
END:VTIMEZONE
BEGIN:VEVENT
DTSTART;TZID=UTC:20181022T173000
DTEND;TZID=UTC:20181022T193000
DTSTAMP:20260423T172139
CREATED:20181011T163022Z
LAST-MODIFIED:20181011T163353Z
UID:421-1540229400-1540236600@eastsidewwicentennial.org
SUMMARY:Feeding the Fight: American Policy\, Propaganda\, and Food  in World War I
DESCRIPTION:
URL:http://eastsidewwicentennial.org/index.php/event/feeding-the-fight-american-policy-propaganda-and-food-in-world-war-i/
LOCATION:Webster Library\, 1465 York Ave\, New York\, NY\, 10075\, United States
ATTACH;FMTTYPE=image/jpeg:http://eastsidewwicentennial.org/wp-content/uploads/2018/10/american-plate.jpg
END:VEVENT
BEGIN:VEVENT
DTSTART;TZID=UTC:20181020T140000
DTEND;TZID=UTC:20181020T150000
DTSTAMP:20260423T172139
CREATED:20180731T153858Z
LAST-MODIFIED:20190211T171500Z
UID:230-1540044000-1540047600@eastsidewwicentennial.org
SUMMARY:WWI Film Series: Men of Bronze
DESCRIPTION:No Registration Required\n60 Min\nThe little-known story of the Black American combat regiment that served under the Fourth French Army in World War I. Rare photographs and motion picture footage are interwoven with on-camera comments by three veterans of the regiment.
URL:http://eastsidewwicentennial.org/index.php/event/wwi-film-series-men-of-bronze/
LOCATION:Webster Library\, 1465 York Ave\, New York\, NY\, 10075\, United States
ATTACH;FMTTYPE=image/png:http://eastsidewwicentennial.org/wp-content/uploads/2018/07/Screen-Shot-2018-07-27-at-14.00.03.png
END:VEVENT
BEGIN:VEVENT
DTSTART;TZID=UTC:20181018T183000
DTEND;TZID=UTC:20181018T210000
DTSTAMP:20260423T172139
CREATED:20180821T164456Z
LAST-MODIFIED:20190211T160953Z
UID:388-1539887400-1539896400@eastsidewwicentennial.org
SUMMARY:ESWWICC Featured Event | "Sergeant York" Showing
DESCRIPTION:A marksman is drafted in World War I and ends up becoming one of the most celebrated war heroes. \nDirector: \nHoward Hawks \nWriters: \nAbem Finkel (original screen play)\, Harry Chandlee(original screen play) | 4 more credits » \nStars: \nGary Cooper\, Walter Brennan\, Joan Leslie |See full cast & crew »
URL:http://eastsidewwicentennial.org/index.php/event/eswwicc-featured-event-sergeant-york-showing/
LOCATION:Lycee Francais of New York\, 505 E 75th St\, New York\, NY\, 10021\, United States
ATTACH;FMTTYPE=image/jpeg:http://eastsidewwicentennial.org/wp-content/uploads/2018/08/gary-cooper-sergeant-york.jpg
END:VEVENT
BEGIN:VEVENT
DTSTART;TZID=UTC:20181013T180000
DTEND;TZID=UTC:20181013T210000
DTSTAMP:20260423T172139
CREATED:20180925T183818Z
LAST-MODIFIED:20180925T183818Z
UID:414-1539453600-1539464400@eastsidewwicentennial.org
SUMMARY:The Breaking of the Hindenburg Line Dinner
DESCRIPTION:
URL:http://eastsidewwicentennial.org/index.php/event/the-breaking-of-the-hindenburg-line-dinner/
LOCATION:The Armory\, 643 Park Avenue\, New York\, NY\, 10065\, United States
END:VEVENT
BEGIN:VEVENT
DTSTART;TZID=UTC:20181006T140000
DTEND;TZID=UTC:20181006T150000
DTSTAMP:20260423T172139
CREATED:20180731T153149Z
LAST-MODIFIED:20180731T170803Z
UID:226-1538834400-1538838000@eastsidewwicentennial.org
SUMMARY:WWI Film Series: The Good Soldier Schweik
DESCRIPTION:No Registration Required\n104 Min\nThis film tells the story of Schweik\, a good-natured buffoon in the Czech Army during WWI\, whose mishaps bring disaster to rigid military situations. Though determined to do his duty\, the messes he creates expose the weaknesses of the military as an institution and bring into sharp relief the absurdity of war.
URL:http://eastsidewwicentennial.org/index.php/event/wwi-film-series-the-good-soldier-schweik/
LOCATION:Webster Library\, 1465 York Ave\, New York\, NY\, 10075\, United States
ATTACH;FMTTYPE=image/png:http://eastsidewwicentennial.org/wp-content/uploads/2018/07/Screen-Shot-2018-07-27-at-14.00.03.png
END:VEVENT
BEGIN:VEVENT
DTSTART;TZID=UTC:20180922T140000
DTEND;TZID=UTC:20180922T160000
DTSTAMP:20260423T172139
CREATED:20180731T154752Z
LAST-MODIFIED:20180731T200617Z
UID:239-1537624800-1537632000@eastsidewwicentennial.org
SUMMARY:WWI Film Series: Good Morning Babylon
DESCRIPTION:No Registration Required\n117 Min\nIn 1915\, Andrea and Nicola\, two Italian brothers\, skilled in the restoration of cathedrals\, leave their native country in search of wealth in America. Their search ultimately leads them to Hollywood where they design sets for films. Then tragedy and war tears them apart\, only to reunite them in World War I.
URL:http://eastsidewwicentennial.org/index.php/event/wwi-film-series-good-morning-babylon/
LOCATION:Webster Library\, 1465 York Ave\, New York\, NY\, 10075\, United States
ATTACH;FMTTYPE=image/png:http://eastsidewwicentennial.org/wp-content/uploads/2018/07/Screen-Shot-2018-07-27-at-14.00.03.png
END:VEVENT
BEGIN:VEVENT
DTSTART;TZID=UTC:20180908T140000
DTEND;TZID=UTC:20180908T150000
DTSTAMP:20260423T172139
CREATED:20180731T152838Z
LAST-MODIFIED:20180731T170827Z
UID:214-1536415200-1536418800@eastsidewwicentennial.org
SUMMARY:WWI Film Series: The Garden Party
DESCRIPTION:No Registration Required\n24 Min\nThis adaptation of the Mansfield story is transferred from post-World War I England to post-World War II New England. Elaborate preparations are made for an afternoon garden party when word comes that a neighboring farmer has been killed in an accident. The shy\, adolescent girl wants to cancel the party but her mother refuses. Bringing a basket of food to the widow\, the girl is taken up to see the deceased man and makes her first acquaintance with death.
URL:http://eastsidewwicentennial.org/index.php/event/wwi-film-series-the-garden-party/
LOCATION:Webster Library\, 1465 York Ave\, New York\, NY\, 10075\, United States
ATTACH;FMTTYPE=image/png:http://eastsidewwicentennial.org/wp-content/uploads/2018/07/Screen-Shot-2018-07-27-at-14.00.03.png
END:VEVENT
BEGIN:VEVENT
DTSTART;VALUE=DATE:20180630
DTEND;VALUE=DATE:20180910
DTSTAMP:20260423T172139
CREATED:20180803T140520Z
LAST-MODIFIED:20181218T180853Z
UID:305-1530316800-1536537599@eastsidewwicentennial.org
SUMMARY:New York Women\, War & Patriotism\, 1812-1918
DESCRIPTION:From the War of 1812 to World War I\, women who were loading shot on front lines\, building ships in navy yards\, furnishing hospitals and supplying ambulances were also simultaneously battling for their own right to vote as citizens. Join us in commemorating the American women who fought for their country even as they also fought the battle for the ballot box.  This exhibition features the efforts of New York artist\, Colonial Dame and Navy Yeomanette Hildreth Meière during World War I.\n\nFree with Museum admission during Museum hours.\n\nAdmission:\n$8 Adults\n$7 Seniors & Students\nFree for Children under 12 Free for Museum Members
URL:http://eastsidewwicentennial.org/index.php/event/new-york-women-war-patriotism-1812-1918/
LOCATION:MOUNT VERNON HOTEL MUSEUM       & GARDEN\, 421 E 61st St\, New York\, NY\, 10065\, United States
ATTACH;FMTTYPE=image/jpeg:http://eastsidewwicentennial.org/wp-content/uploads/2018/08/war-and-patriotism.jpg
END:VEVENT
BEGIN:VEVENT
DTSTART;VALUE=DATE:20180612
DTEND;VALUE=DATE:20180902
DTSTAMP:20260423T172139
CREATED:20180731T185409Z
LAST-MODIFIED:20180731T185603Z
UID:282-1528761600-1535846399@eastsidewwicentennial.org
SUMMARY:American Patriots: The Tuskegee Airmen and the Harlem Hellfighters
DESCRIPTION:American Patriots: The Tuskegee Airmen and the Harlem Hellfighters\nMuseum of Illustration at the Society of Illustrators
URL:http://eastsidewwicentennial.org/index.php/event/american-patriots-the-tuskegee-airmen-and-the-harlem-hellfighters/
LOCATION:Museum of Illustration\, 128 East 63rd Street\, New York\, NY\, United States
ATTACH;FMTTYPE=image/jpeg:http://eastsidewwicentennial.org/wp-content/uploads/2018/07/American-Patriots.jpg
END:VEVENT
END:VCALENDAR